BEGIN:VCALENDAR
VERSION:2.0
PRODID:-//eventon.com NONSGML v1.0//EN
CALSCALE:GREGORIAN
METHOD:PUBLISH
BEGIN:VEVENT
UID:69e4d0f55e386
DTSTAMP:20260419T125621Z
DTSTART:20260531T193000Z
DTEND:20260531T215900Z
LOCATION:
SUMMARY:I AM Real
DESCRIPTION:I AM Real\nhttps://youthonfire.nl/?post_type=ajde_events&p=2980
URL:https://youthonfire.nl/?post_type=ajde_events&p=2980
END:VEVENT
BEGIN:VEVENT
UID:69e4d0f55e414
DTSTAMP:20260419T125621Z
DTSTART:20251019T200000Z
DTEND:20251019T220000Z
LOCATION:
SUMMARY:Youth Radical Night
DESCRIPTION:Youth Radical Night\nhttps://youthonfire.nl/events/youth-radica
 l/
URL:https://youthonfire.nl/events/youth-radical/
END:VEVENT
BEGIN:VEVENT
UID:69e4d0f55e477
DTSTAMP:20260419T125621Z
DTSTART:20260419T200000Z
DTEND:20260419T220000Z
LOCATION:
SUMMARY:Youth Encounter Night
DESCRIPTION:Youth Encounter Night\nhttps://youthonfire.nl/events/youth-enco
 unter-night/
URL:https://youthonfire.nl/events/youth-encounter-night/
END:VEVENT
BEGIN:VEVENT
UID:69e4d0f55e4e2
DTSTAMP:20260419T125621Z
DTSTART:20260703T140000Z
DTEND:20260703T200000Z
LOCATION:
SUMMARY:I AM One Generation
DESCRIPTION:I AM One Generation\nhttps://youthonfire.nl/?post_type=ajde_eve
 nts&p=2908
URL:https://youthonfire.nl/?post_type=ajde_events&p=2908
END:VEVENT
BEGIN:VEVENT
UID:69e4d0f55e530
DTSTAMP:20260419T125621Z
DTSTART:20260224T104600Z
DTEND:20260224T104600Z
LOCATION:
SUMMARY:All About Love
DESCRIPTION:All About Love\nhttps://youthonfire.nl/?post_type=ajde_events&p
 =2906
URL:https://youthonfire.nl/?post_type=ajde_events&p=2906
END:VEVENT
BEGIN:VEVENT
UID:69e4d0f55e588
DTSTAMP:20260419T125621Z
DTSTART:20260425T180000Z
DTEND:20260425T200000Z
LOCATION:
SUMMARY:Taboobreakers
DESCRIPTION:Taboobreakers\nhttps://youthonfire.nl/?post_type=ajde_events&p=
 2894
URL:https://youthonfire.nl/?post_type=ajde_events&p=2894
END:VEVENT
BEGIN:VEVENT
UID:69e4d0f55e5cf
DTSTAMP:20260419T125621Z
DTSTART:20250928T193000Z
DTEND:20250928T220000Z
LOCATION:
SUMMARY:Youth Connect Night
DESCRIPTION:Youth Connect Night\nhttps://youthonfire.nl/events/youth-night/
URL:https://youthonfire.nl/events/youth-night/
END:VEVENT
BEGIN:VEVENT
UID:69e4d0f55e615
DTSTAMP:20260419T125621Z
DTSTART:20251206T190000Z
DTEND:20251206T210000Z
LOCATION:
SUMMARY:On Fire
DESCRIPTION:On Fire\nhttps://youthonfire.nl/events/on-fire/
URL:https://youthonfire.nl/events/on-fire/
END:VEVENT
END:VCALENDAR