BEGIN:VCALENDAR
VERSION:2.0
PRODID:-//eventon.com NONSGML v1.0//EN
CALSCALE:GREGORIAN
METHOD:PUBLISH
BEGIN:VEVENT
UID:69e4d0f55bd6b
DTSTAMP:20260419T125621Z
DTSTART:20251019T200000Z
DTEND:20251019T220000Z
LOCATION:
SUMMARY:Youth Radical Night
DESCRIPTION:Wil je een diepere laag van geloof ingaan? Wil je God nog meer 
 kennen en begrijpen? Durf je gescherpt te worden in waarheid en genade? Dan
  ben je welkom op de Radical Fire avonden\,  waar je door onderwijs een die
 pere laag in het geloof mag gaan!\nhttps://youthonfire.nl/events/youth-radi
 cal/
URL:https://youthonfire.nl/events/youth-radical/
END:VEVENT
END:VCALENDAR