BEGIN:VCALENDAR
VERSION:2.0
PRODID:-//eventon.com NONSGML v1.0//EN
CALSCALE:GREGORIAN
METHOD:PUBLISH
BEGIN:VEVENT
UID:69e4ef6ab3c90
DTSTAMP:20260419T150618Z
DTSTART:20260419T200000Z
DTEND:20260419T220000Z
LOCATION:
SUMMARY:Youth Encounter Night
DESCRIPTION:Deze avond zoeken we door aanbidding God op. Geen verplichtinge
 n\,  geen afleidingen\,  alle focus op Hem.\nhttps://youthonfire.nl/events/
 youth-encounter-night/
URL:https://youthonfire.nl/events/youth-encounter-night/
END:VEVENT
END:VCALENDAR